BEGIN:VCALENDAR
VERSION:2.0
PRODID:-//Jagdschule Rhein Ahr Eifel
CALSCALE:GREGORIAN
METHOD:PUBLISH
X-WR-CALNAME:Jagdschule Rhein Ahr Eifel
X-ORIGINAL-URL:https://jagdschule-rheinahreifel.de/produkt/kompaktkurs-16-06-2022-22-06-2022-pruefung-02-03-07-2022/
X-WR-CALDESC:Kompaktkurs, 16.06. &#8211; 22.06.2022, Prüfung 02.+03.07.2022
BEGIN:VEVENT
DTSTART;TZID=Europe/Helsinki:20220616T000000
DTEND;TZID=Europe/Helsinki:20220622T000000
SUMMARY:Kompaktkurs, 16.06. – 22.06.2022, Prüfung 02.+03.07.2022
DESCRIPTION:
URL:https://jagdschule-rheinahreifel.de/produkt/kompaktkurs-16-06-2022-22-06-2022-pruefung-02-03-07-2022/
LOCATION:56321 Brey
END:VEVENT
END:VCALENDAR
