BEGIN:VCALENDAR
VERSION:2.0
PRODID:-//Jagdschule Rhein Ahr Eifel
CALSCALE:GREGORIAN
METHOD:PUBLISH
X-WR-CALNAME:Jagdschule Rhein Ahr Eifel
X-ORIGINAL-URL:https://jagdschule-rheinahreifel.de/produkt/onlinekurs-kompaktkurs-25-05-31-05-2023/
X-WR-CALDESC:Onlinekurs/Kompaktkurs, 25.05. &#8211; 31.05.2023
BEGIN:VEVENT
DTSTART;TZID=Europe/Helsinki:20230525T000000
DTEND;TZID=Europe/Helsinki:20230531T000000
SUMMARY:Onlinekurs/Kompaktkurs, 25.05. – 31.05.2023
DESCRIPTION:
URL:https://jagdschule-rheinahreifel.de/produkt/onlinekurs-kompaktkurs-25-05-31-05-2023/
LOCATION:56321 Brey
END:VEVENT
END:VCALENDAR
