BEGIN:VCALENDAR
VERSION:2.0
PRODID:-//Jagdschule Rhein Ahr Eifel
CALSCALE:GREGORIAN
METHOD:PUBLISH
X-WR-CALNAME:Jagdschule Rhein Ahr Eifel
X-ORIGINAL-URL:https://jagdschule-rheinahreifel.de/produkt/onlinekurs-kompaktkurs-21-09-27-09-2023/
X-WR-CALDESC:Onlinekurs/Kompaktkurs, 21.09. &#8211; 27.09.2023
BEGIN:VEVENT
DTSTART;TZID=Europe/Helsinki:20230921T000000
DTEND;TZID=Europe/Helsinki:20230927T000000
SUMMARY:Onlinekurs/Kompaktkurs, 21.09. – 27.09.2023
DESCRIPTION:
URL:https://jagdschule-rheinahreifel.de/produkt/onlinekurs-kompaktkurs-21-09-27-09-2023/
LOCATION:56321 Brey
END:VEVENT
END:VCALENDAR
