BEGIN:VCALENDAR
VERSION:2.0
PRODID:-//Jagdschule Rhein Ahr Eifel
CALSCALE:GREGORIAN
METHOD:PUBLISH
X-WR-CALNAME:Jagdschule Rhein Ahr Eifel
X-ORIGINAL-URL:https://jagdschule-rheinahreifel.de/produkt/onlinekurs-kompaktkurs-14-03-20-03-2024/
X-WR-CALDESC:Onlinekurs/Kompaktkurs, 14.03. &#8211; 20.03.2024
BEGIN:VEVENT
DTSTART;TZID=Europe/Helsinki:20240314T000000
DTEND;TZID=Europe/Helsinki:20240320T000000
SUMMARY:Onlinekurs/Kompaktkurs, 14.03. – 20.03.2024
DESCRIPTION:
URL:https://jagdschule-rheinahreifel.de/produkt/onlinekurs-kompaktkurs-14-03-20-03-2024/
LOCATION:56321 Brey
END:VEVENT
END:VCALENDAR
