BEGIN:VCALENDAR
VERSION:2.0
PRODID:-//Jagdschule Rhein Ahr Eifel
CALSCALE:GREGORIAN
METHOD:PUBLISH
X-WR-CALNAME:Jagdschule Rhein Ahr Eifel
X-ORIGINAL-URL:https://jagdschule-rheinahreifel.de/produkt/abendkurs-30-01-2024-23-04-2024/
X-WR-CALDESC:Abendkurs, 30.01.2024 &#8211; 23.04.2024
BEGIN:VEVENT
DTSTART;TZID=Europe/Helsinki:20240130T000000
DTEND;TZID=Europe/Helsinki:20240423T000000
SUMMARY:Abendkurs, 30.01.2024 – 23.04.2024
DESCRIPTION:
URL:https://jagdschule-rheinahreifel.de/produkt/abendkurs-30-01-2024-23-04-2024/
LOCATION:56321 Brey
END:VEVENT
END:VCALENDAR
