BEGIN:VCALENDAR
VERSION:2.0
PRODID:-//Jagdschule Rhein Ahr Eifel
CALSCALE:GREGORIAN
METHOD:PUBLISH
X-WR-CALNAME:Jagdschule Rhein Ahr Eifel
X-ORIGINAL-URL:https://jagdschule-rheinahreifel.de/produkt/onlinekurs-kompaktkurs-24-30-10-2025/
X-WR-CALDESC:Onlinekurs/Kompaktkurs, 24.-30.10.2025
BEGIN:VEVENT
DTSTART;TZID=Europe/Helsinki:20251024T000000
DTEND;TZID=Europe/Helsinki:20251030T000000
SUMMARY:Onlinekurs/Kompaktkurs, 24.-30.10.2025
DESCRIPTION:
URL:https://jagdschule-rheinahreifel.de/produkt/onlinekurs-kompaktkurs-24-30-10-2025/
LOCATION:Rudolf-Diesel-Straße 52, 56220 Urmitz
END:VEVENT
END:VCALENDAR
