BEGIN:VCALENDAR
VERSION:2.0
PRODID:-//Jagdschule Rhein Ahr Eifel
CALSCALE:GREGORIAN
METHOD:PUBLISH
X-WR-CALNAME:Jagdschule Rhein Ahr Eifel
X-ORIGINAL-URL:https://jagdschule-rheinahreifel.de/produkt/werde-schiessstandaufsicht-schiess-allein-wann-du-willst-3/
X-WR-CALDESC:Werde Schießstandaufsicht – Schieß allein, wann DU willst!
BEGIN:VEVENT
DTSTART;TZID=Europe/Helsinki:20251217T170000
DTEND;TZID=Europe/Helsinki:20251217T210000
SUMMARY:Werde Schießstandaufsicht – Schieß allein, wann DU willst!
DESCRIPTION:
URL:https://jagdschule-rheinahreifel.de/produkt/werde-schiessstandaufsicht-schiess-allein-wann-du-willst-3/
LOCATION:Rudolf-Diesel-Straße 52, 56220 Urmitz
END:VEVENT
END:VCALENDAR
