BEGIN:VCALENDAR
VERSION:2.0
PRODID:-//Jagdschule Rhein Ahr Eifel
CALSCALE:GREGORIAN
METHOD:PUBLISH
X-WR-CALNAME:Jagdschule Rhein Ahr Eifel
X-ORIGINAL-URL:https://jagdschule-rheinahreifel.de/produkt/%f0%9f%a6%8a-fuchsjagd-in-der-praxis-leise-wirksam-sinnvoll/
X-WR-CALDESC:🦊 Fuchsjagd in der Praxis – leise, wirksam, sinnvoll
BEGIN:VEVENT
DTSTART;TZID=Europe/Helsinki:20260228T180000
DTEND;TZID=Europe/Helsinki:20260228T210000
SUMMARY:🦊 Fuchsjagd in der Praxis – leise, wirksam, sinnvoll
DESCRIPTION:
URL:https://jagdschule-rheinahreifel.de/produkt/%f0%9f%a6%8a-fuchsjagd-in-der-praxis-leise-wirksam-sinnvoll/
LOCATION:Rudolf-Diesel-Straße 52, 56220 Urmitz
END:VEVENT
END:VCALENDAR
