BEGIN:VCALENDAR
VERSION:2.0
PRODID:-//Jagdschule Rhein Ahr Eifel
CALSCALE:GREGORIAN
METHOD:PUBLISH
X-WR-CALNAME:Jagdschule Rhein Ahr Eifel
X-ORIGINAL-URL:https://jagdschule-rheinahreifel.de/produkt/%f0%9f%aa%b5-hochsitzbau-in-der-praxis-stabil-sicher-durchdacht/
X-WR-CALDESC:🪵 Hochsitzbau in der Praxis – stabil, sicher, durchdacht
BEGIN:VEVENT
DTSTART;TZID=Europe/Helsinki:20251122T090000
DTEND;TZID=Europe/Helsinki:20251122T170000
SUMMARY:🪵 Hochsitzbau in der Praxis – stabil, sicher, durchdacht
DESCRIPTION:
URL:https://jagdschule-rheinahreifel.de/produkt/%f0%9f%aa%b5-hochsitzbau-in-der-praxis-stabil-sicher-durchdacht/
LOCATION:Rudolf-Diesel-Straße 52, 56220 Urmitz
END:VEVENT
END:VCALENDAR
