BEGIN:VCALENDAR
VERSION:2.0
PRODID:-//Jagdschule Rhein Ahr Eifel
CALSCALE:GREGORIAN
METHOD:PUBLISH
X-WR-CALNAME:Jagdschule Rhein Ahr Eifel
X-ORIGINAL-URL:https://jagdschule-rheinahreifel.de/produkt/flintentraining-fuer-fortgeschrittene-praezision-in-bewegung/
X-WR-CALDESC:Flintentraining für Fortgeschrittene – Präzision in Bewegung
BEGIN:VEVENT
DTSTART;TZID=Europe/Helsinki:20250906T090000
DTEND;TZID=Europe/Helsinki:20250906T130000
SUMMARY:Flintentraining für Fortgeschrittene – Präzision in Bewegung
DESCRIPTION:
URL:https://jagdschule-rheinahreifel.de/produkt/flintentraining-fuer-fortgeschrittene-praezision-in-bewegung/
LOCATION:Im Tal der Loreley, 56154 Boppard
END:VEVENT
END:VCALENDAR
