BEGIN:VCALENDAR
VERSION:2.0
PRODID:-//Jagdschule Rhein Ahr Eifel
CALSCALE:GREGORIAN
METHOD:PUBLISH
X-WR-CALNAME:Jagdschule Rhein Ahr Eifel
X-ORIGINAL-URL:https://jagdschule-rheinahreifel.de/produkt/der-gezielte-buechsenschuss-praezision-mit-system/
X-WR-CALDESC:Der gezielte Büchsenschuss – Präzision mit System
BEGIN:VEVENT
DTSTART;TZID=Europe/Helsinki:20250906T143000
DTEND;TZID=Europe/Helsinki:20250906T183000
SUMMARY:Der gezielte Büchsenschuss – Präzision mit System
DESCRIPTION:
URL:https://jagdschule-rheinahreifel.de/produkt/der-gezielte-buechsenschuss-praezision-mit-system/
LOCATION:Im Tal der Loreley, 56154 Boppard
END:VEVENT
END:VCALENDAR
