BEGIN:VCALENDAR
VERSION:2.0
PRODID:-//Jagdschule Rhein Ahr Eifel
CALSCALE:GREGORIAN
METHOD:PUBLISH
X-WR-CALNAME:Jagdschule Rhein Ahr Eifel
X-ORIGINAL-URL:https://jagdschule-rheinahreifel.de/produkt/waidgerecht-handeln-mehr-als-nur-ein-jagdprinzip/
X-WR-CALDESC:Waidgerecht handeln – Mehr als nur ein Jagdprinzip
BEGIN:VEVENT
DTSTART;TZID=Europe/Helsinki:20251031T180000
DTEND;TZID=Europe/Helsinki:20251031T210000
SUMMARY:Waidgerecht handeln – Mehr als nur ein Jagdprinzip
DESCRIPTION:
URL:https://jagdschule-rheinahreifel.de/produkt/waidgerecht-handeln-mehr-als-nur-ein-jagdprinzip/
LOCATION:Rudolf-Diesel-Straße 52, 56220 Urmitz
END:VEVENT
END:VCALENDAR
