BEGIN:VCALENDAR
VERSION:2.0
PRODID:-//Jagdschule Rhein Ahr Eifel
CALSCALE:GREGORIAN
METHOD:PUBLISH
X-WR-CALNAME:Jagdschule Rhein Ahr Eifel
X-ORIGINAL-URL:https://jagdschule-rheinahreifel.de/produkt/werde-schiessstandaufsicht-schiess-allein-wann-du-willst-kopie/
X-WR-CALDESC:Werde Schießstandaufsicht – Schieß allein, wann DU willst! (Kopie)
BEGIN:VEVENT
DTSTART;TZID=Europe/Helsinki:20261128T090000
DTEND;TZID=Europe/Helsinki:20261128T150000
SUMMARY:Werde Schießstandaufsicht – Schieß allein, wann DU willst! (Kopie)
DESCRIPTION:
URL:https://jagdschule-rheinahreifel.de/produkt/werde-schiessstandaufsicht-schiess-allein-wann-du-willst-kopie/
LOCATION:Rudolf-Diesel-Straße 52, 56220 Urmitz
END:VEVENT
END:VCALENDAR
